Workbook

Sheet Fiyat Tr
A1: 2025 Beto Rent A Car Otomasyon Fiyat Listesi
A2: Araç Sayısı | C2: Fiyat | D2: 1. Yıldan Sonra Kullanım Ücreti
A3: 0-15 | B3: : | C3: 35000 | D3: =C3*50/100 -> 17500 | E3: + Kdv
A4: 16-30 | B4: : | C4: 52000 | D4: =C4*50/100 -> 26000 | E4: + Kdv
A5: 31-60 | B5: : | C5: 70000 | D5: =C5*50/100 -> 35000 | E5: + Kdv
A6: 61-99 | B6: : | C6: 92000 | D6: =C6*50/100 -> 46000 | E6: + Kdv
A7: 100-149 | B7: : | C7: 115000 | D7: =C7*50/100 -> 57500 | E7: + Kdv
A8: 150-225 | B8: : | C8: 145000 | D8: =C8*50/100 -> 72500 | E8: + Kdv
A9: 226-350 | B9: : | C9: 175000 | D9: =C9*50/100 -> 87500 | E9: + Kdv
A10: 351-500 | B10: : | C10: 210000 | D10: =C10*50/100 -> 105000 | E10: + Kdv
A11: 501-750 | B11: : | C11: 255000 | D11: =C11*50/100 -> 127500 | E11: + Kdv
A12: 751-1000 | B12: : | C12: Sorunuz | D12: 0
A15: Yıllık Kullanım Ücreti İlk Yıl Alınmamaktadır. 2. Yıldan İtibaren Güncel sistem bedelinin %50 sidir.
A17: Paket 1 | B17: Sadece Otomasyon | H17: Ektralar
B18: Müşteri Sadece Araç Sayısına Göre Otomasyon Ücreti Öder | H18: Whatsapp | I18: 35 Dolar | J18: Aylık
H19: Patron Raporu | I19: 12 Dolar | J19: Aylık
H20: Broker Entegrasyonu | I20: 15 Dolar | J20: Aylık
A21: Paket 2 | B21: Otomasyon + Tablet Modülü (Sadece Sözleşme Pdf) | H21: Web Sitesi (Standart) | I21: 4000 Dolar | J21: Tek Sefer | K21: Sonrasında Domain + Hosting Ücreti Öder Yıllık
B22: Müşteri Otomasyon Ücreti Dışında Ekstra Ödeme Yapar | H22: Web Sitesi (Özel) | I22: 8000 Dolar | J22: Tek Sefer | K22: Sonrasında Domain + Hosting Ücreti Öder Yıllık
B23: Tablet Sayısı | D23: Biyometrik İmza ve Pdf Sözleşme Gönderimi | H23: Sanal Pos | I23: 50 Dolar | J23: Aylık
B24: 0-2 | D24: 100 Dolar | E24: Aylık
B25: 3-5 | D25: 125 Dolar | E25: Aylık
B26: 6-10 | D26: 150 Dolar | E26: Aylık | H26: SSL Sertifikası | I26: 1200 | J26: Yıllık
H27: Domain | I27: 1200 | J27: Yıllık
H28: Hosting | I28: 3950 TL | J28: Yıllık
A29: Paket 3 | B29: Otomasyon + Tablet Modülü (Tablet ile araç teslim etme-alma)
B30: Müşteri Otomasyon Ücreti Dışında Ekstra Ödeme Yapar | H30: 5'li 10GB Mail Paketi | I30: 4750 | J30: Yıllık
B31: Tablet Sayısı | D31: Biyometrik İmza ve Pdf Sözleşme Gönderimi | H31: 10'Lu 10Gb Mail Paketi | I31: 8350 | J31: Yıllık
B32: 0-2 | D32: 200 Dolar | E32: Aylık
B33: 3-5 | D33: 225 Dolar | E33: Aylık
B34: 6-10 | D34: 250 Dolar | E34: Aylık | H34: Sunucu Ücreti | I34: Sorunuz | J34: Yıllık
B35: 10> | D35: Sorunuz | I35: 600 | J35: Dolar | K35: Standart
I37: 800 | J37: Dolar | K37: 20 üstü resimler için

Sheet Güncel Fiyat
A1: JUNIOR | G1: STARTER (Yeni & Küçük Firmalar) | M1: PRO (Büyüyen Firmalar) | S1: BUSINESS (Kurumsal) | Y1: ENTERPRISE (Filo & Broker) | AE1: ÖZEL (Büyük Firmalar) | AK1: Ekstralar
C2: Fiyat | I2: Fiyat | O2: Fiyat | U2: Fiyat | AA2: Fiyat | AG2: Fiyat | AK2: SSL Sertifikası | AL2: 1450
A3: Araç Sayısı | B3: 1-15 | C3: 700 | D3: ✔ | E3: Z | G3: Araç Sayısı | H3: 16-30 | I3: 950 | J3: ✔ | K3: Z | M3: Araç Sayısı | N3: 31-70 | O3: 1650 | P3: ✔ | Q3: Z | S3: Araç Sayısı | T3: 71-150 | U3: 3200 | V3: ✔ | W3: Z | Y3: Araç Sayısı | Z3: 151-500 | AA3: 4950 | AB3: ✔ | AC3: Z | AE3: Araç Sayısı | AF3: 501-750 | AG3: 6500 | AH3: ✔ | AI3: Z | AK3: Domain | AL3: 1450
A4: Sunucu | B4: VDS-3 | C4: 250 | D4: =IF(F4=TRUE,"✔","") | F4: FALSE | G4: Sunucu | H4: VDS-3 | I4: 250 | J4: =IF(L4=TRUE,"✔","") | L4: FALSE | M4: Sunucu | N4: VDS-4 | O4: 350 | P4: =IF(R4=TRUE,"✔","") | R4: FALSE | S4: Sunucu | T4: VDS-4 | U4: 350 | V4: =IF(X4=TRUE,"✔","") | X4: FALSE | Y4: Sunucu | Z4: VDS-4 | AA4: 350 | AB4: =IF(AD4=TRUE,"✔","") | AD4: FALSE | AE4: Sunucu | AF4: VDS-4 | AG4: 350 | AH4: =IF(AJ4=TRUE,"✔","") | AJ4: FALSE | AK4: Hosting | AL4: 4850
A5: Whatsapp | C5: 250 | D5: =IF(F5=TRUE,"✔","") | F5: FALSE | G5: Whatsapp | I5: 250 | J5: =IF(L5=TRUE,"✔","") | L5: FALSE | M5: Whatsapp | O5: 250 | P5: =IF(R5=TRUE,"✔","") | R5: FALSE | S5: Whatsapp | U5: 250 | V5: =IF(X5=TRUE,"✔","") | X5: FALSE | Y5: Whatsapp | AA5: 250 | AB5: =IF(AD5=TRUE,"✔","") | AD5: FALSE | AE5: Whatsapp | AG5: 250 | AH5: =IF(AJ5=TRUE,"✔","") | AJ5: FALSE | AK5: Kurumsal Mail Paketi 5'li | AL5: 5250
A6: Mobil Lisans | B6: 1 | C6: =B6 * Sabitler!B2 -> 50 | D6: =IF(F6=TRUE,"✔","") | F6: FALSE | G6: Mobil Lisans | H6: 3 | I6: 500 | J6: =IF(L6=TRUE,"✔","") | L6: FALSE | M6: Mobil Lisans | N6: 6 | O6: 600 | P6: =IF(R6=TRUE,"✔","") | R6: FALSE | S6: Mobil Lisans | T6: 8 | U6: 650 | V6: =IF(X6=TRUE,"✔","") | X6: FALSE | Y6: Mobil Lisans | Z6: 12 | AA6: 850 | AB6: =IF(AD6=TRUE,"✔","") | AD6: FALSE | AE6: Mobil Lisans | AF6: 30 | AG6: =AF6 * Sabitler!B7 -> 1500 | AH6: =IF(AJ6=TRUE,"✔","") | AJ6: FALSE | AK6: Kurumsal Mail Paketi 10'lu | AL6: 8900
A7: Findeks Modülü | C7: 50 | D7: =IF(F7=TRUE,"✔","") | F7: FALSE | G7: Findeks Modülü | I7: 50 | J7: =IF(L7=TRUE,"✔","") | L7: FALSE | M7: Findeks Modülü | O7: 50 | P7: =IF(R7=TRUE,"✔","") | S7: Findeks Modülü | U7: 50 | V7: =IF(X7=TRUE,"✔","") | X7: FALSE | Y7: Findeks Modülü | AA7: 50 | AB7: =IF(AD7=TRUE,"✔","") | AE7: Findeks Modülü | AG7: 50 | AH7: =IF(AJ7=TRUE,"✔","")
A8: Sms Entegrasyonu | C8: 0 | G8: Broker Entegrasyonu | H8: 1 | I8: 0 | J8: =IF(L8=TRUE,"✔","") | L8: FALSE | M8: Broker Entegrasyonu | N8: 1 | O8: 40 | P8: =IF(R8=TRUE,"✔","") | R8: FALSE | S8: Broker Entegrasyon | T8: 1 | U8: 40 | V8: =IF(X8=TRUE,"✔","") | X8: FALSE | Y8: Broker Entegrasyon | Z8: 1 | AA8: 40 | AB8: =IF(AD8=TRUE,"✔","") | AE8: Broker Entegrasyon | AF8: 1 | AG8: 40 | AH8: =IF(AJ8=TRUE,"✔","") | AJ8: FALSE
A9: e-Fatura / e-Arşiv | C9: 0 | G9: Sms Entegrasyonu | I9: 0 | M9: SanalPos Entegrasyon | O9: 400 | P9: =IF(R9=TRUE,"✔","") | S9: SanalPos Entegrasyon | U9: 400 | V9: =IF(X9=TRUE,"✔","") | X9: FALSE | Y9: SanalPos Entegrasyon | AA9: 400 | AB9: =IF(AD9=TRUE,"✔","") | AE9: SanalPos Entegrasyon | AG9: 400 | AH9: =IF(AJ9=TRUE,"✔","") | AJ9: FALSE
A10: Hgs Entegrasyonu | C10: 0 | G10: e-Fatura / e-Arşiv | I10: 0 | M10: Sms Entegrasyonu | O10: 0 | S10: Sms Entegrasyonu | U10: 0 | Y10: Sms Entegrasyonu | AA10: 0 | AE10: Sms Entegrasyonu | AG10: 0
D11: =IF(F11=TRUE,"✔","") | F11: FALSE | G11: Hgs Entegrasyonu | I11: 0 | L11: FALSE | M11: e-Fatura / e-Arşiv | O11: 0 | S11: e-Fatura / e-Arşiv | U11: 0 | Y11: e-Fatura / e-Arşiv | AA11: 0 | AE11: e-Fatura / e-Arşiv | AG11: 0
M12: Hgs Entegrasyonu | O12: 0 | S12: Hgs Entegrasyonu | U12: 0 | Y12: Hgs Entegrasyonu | AA12: 0 | AE12: Hgs Entegrasyonu | AG12: 0
A19: ✔ Müsaitlik Yönetimi | G19: ✔ Müsaitlik Yönetimi
A20: ✔ Dönemsel Fiyat Yönetimi | G20: ✔ Dönemsel Fiyat Yönetimi
A21: ✔ Rezervasyon Yönetimi | G21: ✔ Rezervasyon Yönetimi
A22: ✔ Kasa-Banka Yönetimi | G22: ✔ Kasa-Banka Yönetimi
A23: ✔ Kasko-Sigorta-Muayene Takibi | G23: ✔ Kasko-Sigorta-Muayene Takibi
A24: ✔ Yetkilendirme (Rol Yönetimi) | G24: ✔ Yetkilendirme (Rol Yönetimi)
A25: ✔ Sınırsız Lokasyon | G25: ✔ Sınırsız Lokasyon
A26: ✔ Sınırsız Kullanıcı | G26: ✔ Sınırsız Kullanıcı
B33: Toplam | C33: =SUMIF(D3:D32,"✔",C3:C32) -> 700 | H33: Toplam | I33: =SUMIF(J3:J32,"✔",I3:I32) -> 950 | N33: Toplam | O33: =SUMIF(P3:P32,"✔",O3:O32) -> 1650 | T33: Toplam | U33: =SUMIF(V3:V32,"✔",U3:U32) -> 3200 | Z33: Toplam | AA33: =SUMIF(AB3:AB32,"✔",AA3:AA32) -> 4950 | AF33: Toplam | AG33: =SUMIF(AH3:AH32,"✔",AG3:AG32) -> 6500
C34: =SUMIF(D3:D32,"✔",C3:C32) * Sabitler!F3 -> 33390 | I34: =SUMIF(J3:J32,"✔",I3:I32) * Sabitler!F3 -> 45315 | O34: =SUMIF(P3:P32,"✔",O3:O32) * Sabitler!F3 -> 78705 | U34: =SUMIF(V3:V32,"✔",U3:U32) * Sabitler!F3 -> 152640 | AA34: =SUMIF(AB3:AB32,"✔",AA3:AA32)* Sabitler!F3 -> 236115 | AG34: =SUMIF(AH3:AH32,"✔",AG3:AG32) * Sabitler!F3 -> 310050
B35: Kdv Dahil | C35: =SUMIF(D3:D32,"✔",C3:C32) * Sabitler!F3*(1+ Sabitler!H3/100) -> 40068 | H35: Kdv Dahil | I35: =SUMIF(J3:J32,"✔",I3:I32) * Sabitler!F3*(1+ Sabitler!H3/100) -> 54378 | N35: Kdv Dahil | O35: =SUMIF(P3:P32,"✔",O3:O32) * Sabitler!F3*(1+ Sabitler!H3/100) -> 94446 | T35: Kdv Dahil | U35: =SUMIF(V3:V32,"✔",U3:U32) * Sabitler!F3*(1+ Sabitler!H3/100) -> 183168 | Z35: Kdv Dahil | AA35: =SUMIF(AB3:AB32,"✔",AA3:AA32) * Sabitler!F3*(1+ Sabitler!H3/100) -> 283338 | AF35: Kdv Dahil | AG35: =SUMIF(AH3:AH32,"✔",AG3:AG32) * Sabitler!F3*(1+ Sabitler!H3/100) -> 372060
A36: Yıllık lisans bedeli her yıl paket fiyat değeridir. | G36: Yıllık lisans bedeli her yıl paket fiyat değeridir. | M36: Lisans bedeli her yıl en fazla TÜFE + %10 oranıdır. | S36: Lisans bedeli her yıl en fazla TÜFE + %10 oranıdır. | Y36: Lisans bedeli her yıl en fazla TÜFE + %10 oranıdır. | AE36: Lisans bedeli her yıl en fazla TÜFE + %10 oranıdır.

Sheet Sabitler
A1: Ürün | B1: Fiyat
A2: Mobil Uygulama Junior | B2: 50
A3: Mobil Uygulama Fiyatı (Starter) | B3: 200 | E3: Dolar | F3: 47.7 | G3: Kdv | H3: 20
A4: Mobil Uygulama Fiyatı (Pro) | B4: 125 | E4: Euro | F4: 0
A5: Mobil Uygulama Fiyatı (Business) | B5: 100
A6: Mobil Uygulama Fiyatı (EnterPrise) | B6: 75
A7: Mobil Uygulama Fiyatı (Büyük) | B7: 50
A8: Özel Büyük Firmalar (Araç Başı) | B8: 9
